BEGIN:VCALENDAR
VERSION:2.0
PRODID:-//wp-events-plugin.com//7.2.3.1//EN
TZID:Europe/Berlin
X-WR-TIMEZONE:Europe/Berlin
BEGIN:VEVENT
UID:1800@bcis-bildung.de
DTSTART;TZID=Europe/Berlin:20201117T100000
DTEND;TZID=Europe/Berlin:20201117T170000
DTSTAMP:20201021T110006Z
URL:https://bcis-bildung.de/events/smarte-hilfeplanung-individuelle-teilha
 beplanung-mit-der-smart-methode-3/
SUMMARY:SMARTe Hilfeplanung  Individuelle Teilhabeplanung mit der SMART-Met
 hode
DESCRIPTION:SMARTe Hilfeplanung\nIndividuelle Teilhabeplanung mit der SMART
 -Methode\nErfolgreiche Teilhabeplanung gestalten- durch den Einsatz  des
   SMART Konzeptes.\n\nImmer mehr bestimmt die individuelle Teilhabeplanun
 g nach dem BTHG unsere Arbeit mit den Menschen in den Werkstätten\, in de
 n unterschiedlichen Wohnformen und in der beruflichen Ausbildung.\n\nÜber
  den individuellen Teilhabeplan soll der Hilfebedarf personenbezogen ermit
 telt werden. Die Ermittlung des persönlichen Bedarfes des Leistungsberech
 tigten muss durch ein Instrument erfolgen\, das sich an der internationale
 n Klassifikation der Funktionsfähigkeit\, Behinderung und Gesundheit (ICF
 ) orientiert. Hierfür sollte - laut Kostenträger - das SMART Konzept gen
 utzt werden. Es bietet zahlreiche Hilfestellungen für die planenden Perso
 nen und ermöglicht somit eine ergebnisorientierte Hilfeplanung.\n\nInhalt
 e:\n\n-kurze Einführung BTHG / und ICF\n\n-Einführung SMART Konzept\, au
 sführliche Vorstellung der Methode. Darstellung der Vorteile in der prakt
 ischen Arbeit.\n\n-praktische Übungen: Wie können Ziele SMART formuliere
 n werden?\n\nHierfür können eigene Fallbeispiele mitgebracht werden. In 
 Kleingruppen und im Plenum werden die Ziele nun nach den SMART Kriterien f
 ormuliert. Hierbei werden Ihnen Indikatoren zur Messbarkeit und zur Untert
 eilung der Ziele vermittelt.\n\nZiele der Fortbildung:\n\n- Sie erhalten i
 n einer kurzen Einführung einen Überblick über das BTHG und die ICF\n\n
 - Sie lernen die Grundlagen des SMART Konzeptes kennen\n\n- Sie formuliere
 n Ziele- SMART für die individuelle Hilfeplanung.\n\n- Sie lernen wie die
  Ziele messbar und in kleinen Schritten im Alltag umsetzbar sind.\n\nMetho
 den:\n\n- Praxisorientierte Vorträge\n\n- Kleingruppenarbeit\n\n- Erfahru
 ngsaustausch im Plenum\n\nZielgruppe:                  Le
 iter und Leiterinnen in der Behinderten- und Jugendhilfe\, Fachkräfte in 
 Werkstätten für Menschen mit Behinderungen und in den Wohnformen der Beh
 indertenhilfe sowie in Kindereinrichtungen\n\nTeilnehmer:        
         max. 18 Personen\n\nDozentin:               
      Regina Tenga\, Staatlich anerkannte Ergotherapeutin\n\nPreis:  
                          149\,00€ zzgl. MwSt. (In
 kl. Seminarunterlagen\, Stehkaffee mit                   
                                      
                                Gebäck\,Tagu
 ngsgetränke und am Nachmittag Kaffee und Kuchen)\n\nVeranstaltungsort:  
 Tagungshaus Caritas Pirckheimer Haus\nKönigstraße 64\n90402 Nürnberg\n\
 nBeginn:                             10.00 – 
 17.00 Uhr\n\nTermin:                             
 17.11.2020\n\nAnmeldeschluss:             06.11.2020
LOCATION:Tagungshaus Caritas Pirckheimer Haus\, Königstraße 64\, Nürnber
 g\, Bayern\, 90402 \, Deutschland
GEO:49.44866409999999;11.079846399999951
X-APPLE-STRUCTURED-LOCATION;VALUE=URI;X-ADDRESS=Königstraße 64\, Nürnber
 g\, Bayern\, 90402 \, Deutschland;X-APPLE-RADIUS=100;X-TITLE=Tagungshaus C
 aritas Pirckheimer Haus:geo:49.44866409999999,11.079846399999951
END:VEVENT
BEGIN:VTIMEZONE
TZID:Europe/Berlin
X-LIC-LOCATION:Europe/Berlin
BEGIN:STANDARD
DTSTART:20201025T020000
TZOFFSETFROM:+0200
TZOFFSETTO:+0100
TZNAME:CET
END:STANDARD
END:VTIMEZONE
END:VCALENDAR