BEGIN:VCALENDAR
VERSION:2.0
PRODID:-//wp-events-plugin.com//7.2.3.1//EN
TZID:Europe/Berlin
X-WR-TIMEZONE:Europe/Berlin
BEGIN:VEVENT
UID:1798@bcis-bildung.de
DTSTART;TZID=Europe/Berlin:20201123T100000
DTEND;TZID=Europe/Berlin:20201123T170000
DTSTAMP:20201021T110053Z
URL:https://bcis-bildung.de/events/outlook-der-digitale-schreibtisch-51/
SUMMARY:Outlook – der digitale Schreibtisch
DESCRIPTION:Outlook – der digitale Schreibtisch\n Organisieren und manag
 en Sie Ihre E-Mails\, Termine\, Aufgaben und Ablagen in Outlook praktisch\
 , einfach und sinnvoll.\nOutlook ist ein wahres Multitalent\, um E-Mails\,
  Termine\, Aufgaben und Ablagen effizient zu verwalten und zu steuern. Jed
 er kennt das Gefühl – überquellende Eingangsordner\, ungewollte Flut a
 n E-Mails\, langes Suchen. Das Bürosystem Outlook bietet – im Sinne ihr
 er Urheber - viele Funktionen und Möglichkeiten. Vorausgesetzt\, man kenn
 t und nutzt wesentliche Funktionen\, die das Arbeiten mit Outlook effizien
 ter machen. Nutzen Sie das Potenzial von Outlook.\n\nDas Seminar „Outloo
 k – der digitale Schreibtisch“ ist eine ideale Ergänzung\, um die Eff
 izienz an Ihrem Arbeitsplatz zu steigern. Mit einer Vielzahl an konkreten 
 Beispielen bieten wir Ihnen einen hohen Praxisbezug und einen optimalen Le
 rnerfolg\, damit Sie das Wissen direkt in der täglichen Arbeit umsetzen k
 önnen.\n\nDas Seminar „Outlook – der digitale Schreibtisch“ ist ein
  pragmatischer Ansatz und keine Outlook Expertenschulung.\n\nUnsere Traine
 r und Dozenten verfügen über einen hohen Praxisbezug und vermitteln Ihne
 n die Seminarinhalte verständlich und unkompliziert. Wir setzen dabei auf
  einen interaktiven Dialog. In unseren Seminaren setzen wir die Version Of
 fice 2016 ein.\n\nZielsetzung:\n\nDas Seminar vermittelt Ihnen\, wie Sie O
 utlook effizienter nutzen und auf Ihre Anforderungen ausrichten. Die Inhal
 te des Seminars sind in einer verständlichen Sprache und für den Anwende
 r aus der Praxis aufbereitet.\n\nInhalte:\n\n 	Grundlagen Lean-Administrat
 ion\, Lean-Denken und 5S-Methode\n 	Outlook – der digitale Schreibtisch:
  Grundlagen von Outlook\, „Mein Outlook“ einrichten\n 	Komponenten\, w
 ie E-Mail\, Kontakte\, Termine\, Aufgaben und Ordner einfach organisieren\
 n 	Die E-Mail-Flut bewältigen: halten Sie Ihren Posteingang leer\, Outloo
 k-Wiedervorlage\, praktische Outlook-Funktionen für mehr Ordnung im Postf
 ach\n 	Aufgabenliste führen und sich selber\, Ihren Chef oder Ihr Team to
 p entlasten\n 	Nachrichten\, Termine und Aufgaben\; „Nichts geht verlore
 n\, alles im Blick“.\n 	Eigene Outlook Ordner-/Ablagestruktur anlegen\; 
 „Widerfinden ist das Zauberwort“\n 	Wegwerfen leichtgemacht – Aufrä
 umen „Was ist Wichtigkeit\, was kann weg?“\n 	Zeit- und Terminmanageme
 nt mit Outlook – Kalender richtig nutzen\, im Team arbeiten\n 	Wertvolle
  Arbeitszeit sparen – QuickSteps\, Schnellbausteine\, Regeln\, lassen Si
 e Outlook für sich arbeiten\n 	Planen mit Outlook – Besprechungen\, Ter
 minserien\, gemeinsame Kalender\n 	Zusammenarbeit im Team – Outlook als 
 Schaltzentrale und Informationen teilen\n 	Wertvolle Tipps und Hinweise f
 ür die einfache und praxisorientierte Anwendung\n 	Praxisbezogene Beispie
 le\n 	Dialogrunde und Diskussion (Vertiefung und Erfahrungsaustausch)\n\nN
 ach dem Seminar:\n\n 	Haben Sie ein grundlegendes Verständnis\, wie Sie i
 hren „digitalen Schreibtisch“ - Outlook effizienter nutzen können\n 	
 Die Zusammenarbeit im Team und mit Ihrem Chef läuft flüssiger\n 	Sie ben
 ötigen weniger Zeit für die typischen Arbeiten im Büro\n 	Haben Sie dir
 ekt umsetzbare Anregungen für Ihren Arbeitsbereich in der Praxis und ein 
 praxisorientiertes Nachschlagewerk (Handout)\n\nZielgruppe:       
         Fach- und Führungskräfte aus allen Unternehmens-\, Verwal
 tungs- und Werkstattbereichen\, Qualitätsbeauftragte\, Prozess-/Projektma
 nagerInnen\, Ausbilder und alle Personen\, welche sich für das Thema inte
 ressieren.\n\nTeilnehmer: max. 18 Personen\n\nDozent: Dipl. Wirtschaft. In
 g. Bernd Wagenknecht\nLean &amp\; Kaizen Experte\n\nPreis: 149\,00€ zzgl
 . MwSt.\n(Inkl. Seminarunterlagen\, Stehkaffee mit Gebäck\,Tagungsgeträn
 ke\nund am Nachmittag Kaffee und Kuchen)\n\nVeranstaltungsort:\n\nCaritasv
 erband für das Erzbistum Berlin e.V.\n\nResidenzstraße 90\n\n13409 Berli
 n\n\nBeginn: 10.00 – 17.00 Uhr\n\nTermin: 23.11.2020\n\nAnmeldeschluss: 
 12.11.2020
LOCATION:Caritasverband für das Erzbistum Berlin e.V. \, Residenzstraße 9
 0\, Berlin \, 13409\, Deutschland
GEO:52.5597152;13.370370800000046
X-APPLE-STRUCTURED-LOCATION;VALUE=URI;X-ADDRESS=Residenzstraße 90\, Berlin
  \, 13409\, Deutschland;X-APPLE-RADIUS=100;X-TITLE=Caritasverband für das
  Erzbistum Berlin e.V. :geo:52.5597152,13.370370800000046
END:VEVENT
BEGIN:VTIMEZONE
TZID:Europe/Berlin
X-LIC-LOCATION:Europe/Berlin
BEGIN:STANDARD
DTSTART:20201025T020000
TZOFFSETFROM:+0200
TZOFFSETTO:+0100
TZNAME:CET
END:STANDARD
END:VTIMEZONE
END:VCALENDAR