BEGIN:VCALENDAR
VERSION:2.0
PRODID:-//wp-events-plugin.com//7.2.3.1//EN
TZID:Europe/Berlin
X-WR-TIMEZONE:Europe/Berlin
BEGIN:VEVENT
UID:1797@bcis-bildung.de
DTSTART;TZID=Europe/Berlin:20201125T100000
DTEND;TZID=Europe/Berlin:20201125T170000
DTSTAMP:20201012T180632Z
URL:https://bcis-bildung.de/events/leistungs-kostentraegerrechnung-in-der-
 eingliederungshilfe-3/
SUMMARY:Leistungs-/Kostenträgerrechnung in der Eingliederungshilfe
DESCRIPTION:                 Leistungs-/Kostenträgerrechn
 ung in der Eingliederungshilfe \nDie dritte Reformstufe des Bundesteilhab
 egesetzes ist in Kraft getreten. Leistungserbringer  haben die vollständ
 ige Leistungstrennung zu vollziehen und das ist nicht nur in Bezug auf die
  Leistungsabrechnung ein Thema. Viele Leistungen müssen von Grund auf neu
  definiert werden\, damit sie nach außen hin kommuniziert werden können.
 \n\nLeistungen verursachen Kosten. Was darf es jeweilig kosten\, wenn die 
 Wirtschaftlichkeit und die Wirksamkeit gewährleistet sein sollen und ande
 rerseits die nachhaltige positive Entwicklung der Einrichtung gesichert se
 in muss?\n\nWarum sind die Kosten für eine bestimmte Leistung gestiegen? 
 Wie lassen sich Effektivität bzw. Erlöskennziffern verbessern? Welche ka
 lkulatorischen Kosten sind zu berücksichtigen?\n\nDas zentrale Ziel ist e
 s\, jedem Leistungsberechtigten oder jeder Gruppe Leistungsberechtigter al
 le Kosten zuzuordnen\, die  im Laufe der Leistungserbringung\, der erford
 erlichen beratenden und verwaltenden Leistungen sowie der einmaligen Leist
 ungen (Kern-\, Support- und Initialisierungsebene) verursacht werden. Auf 
 diese Weise bekommt man eine solide Grundlage für die effektive Gestaltun
 g kundenorientierter Dienstleistungsprozesse.\n\nDabei geht es auch darum 
 zu ermitteln\, welchen wirtschaftlichen Beitrag einzelne Dienstleistungen\
 , Organisationseinheiten oder Einrichtungen zur Deckung der Kosten eines U
 nternehmens leisten können. Das erfordert die Betrachtung der Kosten in A
 bhängigkeit der Beschäftigung\, die zu den fixen und variablen Kosten un
 d letztlich zur Deckungsbeitragsrechnung führt.\n\nIn diesem Seminar lern
 en Sie dafür mögliche Methoden kennen\, entsprechende Analyseschritte we
 rden aufgezeigt.\n\nInhalte des Seminars:\n\nGEDANKEN ZUR LEISTUNGSDEFINIT
 ION: PERSONA ERSTELLEN\n\n 	Leistungen trennen und neu definieren\n 	Leist
 ungen zielgruppengerecht formulieren\n 	Leistungen kundenfreundlich präse
 ntieren\n\nKostenarten-\, Kostenstellen- und Kostenträgerrechnung\n\n 	We
 lche Arten von Kosten fallen für welche Leistungen an?\n 	Aufteilung in E
 inzel- und Gemeinkosten sowie fixe und variable Kosten\n 	Prinzip der Voll
 ständigkeit und der Kontinuität (Periodenkosten)\n 	Kostenträgerstück-
  und Kostenträgerzeitrechnung\n\nModerne Verfahren der Kostensteuerung\n\
 n 	Deckungsbeitragsrechnung und kalkulatorische Zusatzkosten\n 	Prozesskos
 tenrechnung (Quadromo-Methode)\n\nArbeitsformen:\n\n 	Praxisorientierter V
 ortrag\n 	Übungen\n\nZielgruppe:\n\nDie Veranstaltung richtet sich an Fü
 hrungskräfte in sozialen Einrichtungen\, Bereichsleiter sowie Mitarbeiter
  mit konzeptionellen und betriebswirtschaftlichen Verantwortungsbereichen.
 \n\nTeilnehmer:                max. 18 Personen\n\nDozent:
                        Dipl. Ökonom Gerold Augart\n
 \nPreis: 149\,00€ zzgl. MwSt.\n(Inkl. Seminarunterlagen\, Stehkaffee mit
  Gebäck\,Tagungsgetränke\nund am Nachmittag Kaffee und Kuchen)\n\nVerans
 taltungsort:  Caritasverband für das Erzbistum Berlin e.V.\n\nResidenzst
 raße 90\n\n13409 Berlin\n\nBeginn: 10.00 – 17.00 Uhr\n\nTermin: 25.11.2
 020\n\nAnmeldeschluss: 11.11.2020
LOCATION:Caritasverband für das Erzbistum Berlin e.V. \, Residenzstraße 9
 0\, Berlin \, 13409\, Deutschland
GEO:52.5597152;13.370370800000046
X-APPLE-STRUCTURED-LOCATION;VALUE=URI;X-ADDRESS=Residenzstraße 90\, Berlin
  \, 13409\, Deutschland;X-APPLE-RADIUS=100;X-TITLE=Caritasverband für das
  Erzbistum Berlin e.V. :geo:52.5597152,13.370370800000046
END:VEVENT
BEGIN:VTIMEZONE
TZID:Europe/Berlin
X-LIC-LOCATION:Europe/Berlin
BEGIN:STANDARD
DTSTART:20201025T020000
TZOFFSETFROM:+0200
TZOFFSETTO:+0100
TZNAME:CET
END:STANDARD
END:VTIMEZONE
END:VCALENDAR