BEGIN:VCALENDAR
VERSION:2.0
PRODID:-//wp-events-plugin.com//7.2.3.1//EN
TZID:Europe/Berlin
X-WR-TIMEZONE:Europe/Berlin
BEGIN:VEVENT
UID:1708@bcis-bildung.de
DTSTART;TZID=Europe/Berlin:20200707T100000
DTEND;TZID=Europe/Berlin:20200707T170000
DTSTAMP:20200616T082952Z
URL:https://bcis-bildung.de/events/kognitiv-eingeschraenkt-und-psychisch-g
 estoert-erfolgreicher-umgang-mit-doppeldiagnosen-im-paedagogischen-alltag-
 3/
SUMMARY:Kognitiv eingeschränkt und psychisch gestört - Erfolgreicher Umga
 ng mit Doppeldiagnosen im pädagogischen Alltag
DESCRIPTION:Kognitiv eingeschränkt und psychisch gestört - Erfolgreicher 
 Umgang mit Doppeldiagnosen im pädagogischen Alltag \n\nEin großer Anteil
  von Menschen mit kognitiven Einschränkungen leidet gleichzeitig an psych
 ischen Auffälligkeiten oder Störungen. Wir sprechen dann von Doppeldiagn
 osen.\n\nFür pädagogische Fachkräfte und Betreuende Mitarbeiter ergibt 
 sich daraus häufig die Situation\, dass übliche kommunikative oder psych
 otherapeutische Ansätze nicht genügen\, um pädagogische Ziele zu erreic
 hen\, bzw. bei Problemen zu helfen oder Konflikte erfolgreich zu klären.\
 n\nInhalte:\n\n 	Die multidisziplinäre Gesamtkonzeption als Methodenzusam
 menspiel ausPsychologie\, sozialer Arbeit und Heilpädagogik\n 	Kriterien 
 zur Feststellung kognitiver Einschränkungen Interpretation von Intelligen
 zquotienten und Entwicklungsalter Merkmale wesentlicher psychischer Störu
 ngen\n 	Wie nehmen kognitiv eingeschränkte Personen eine Situation wahr?\
 n 	Wie nehmen dies Menschen mit unterschiedlichen psychischen Störungen w
 ahr?\n 	Welche Konflikte können daraus entstehen?\n 	Woran erkenne ich ei
 nen beginnenden Konflikt bei diesem Personenkreis?\n 	Auswirkungen im Grup
 penprozess\n 	Typische Konfliktfelder bei Klienten mit Doppeldiagnosen\n\n
 Sie lernen:\n\n 	Abhängig von der Art der Doppeldiagnose Entwicklungsziel
 e festzulegen und umzusetzen\n 	Konflikte zwischen ihnen und den Klienten 
 entsprechend der Doppeldiagnose  präventiv zu minimieren\n 	Mit bestehen
 den Konflikten entsprechend Störungsbild erfolgreich umzugehen\n 	Methode
 n der Fremdanamnese bei eingeschränkten kognitiven Fähigkeiten der Klien
 ten\n 	Steuerung der Gruppen bei vorhandenen Konflikten\n\nZielgruppe:  
                 Mitarbeiterinnen und Mitarbeiter in soziale
 n Einrichtungen die Menschen mit Doppeldiagnosen einzeln oder in gemischte
 n Teams führen oder sozialpädagogisch betreuen.\n\nTeilnehmer:     
            max. 18 Personen\n\nDozent:             
           Uwe Steinmeyer Dozent für Verhaltenstherapie\n\nPreis:
                            149\,00€ zzgl. MwSt.
  (Inkl. Seminarunterlagen\, Stehkaffee mit                 
                                      
                                  Gebäck\,
 Tagungsgetränke und am Nachmittag Kaffee und Kuchen)\n\nVeranstaltungsort
 :  Bonifatiushaus Haus der Weiterbildung der Diözese Fulda\nNeuenbergers
 tr. 3-5\n36041 Fulda\n\nBeginn:                     
         10.00 – 17.00 Uhr\n\nTermin:               
               07.07.2020\n\nAnmeldeschluss:            
  25.06.2020
LOCATION:Bonifatiushaus Haus der Weiterbildung der Diözese Fulda\, Neuenbe
 rgerstr. 3-5\, Fulda\, 36041 \, Deutschland
GEO:50.55137999999999;9.661339999999996
X-APPLE-STRUCTURED-LOCATION;VALUE=URI;X-ADDRESS=Neuenbergerstr. 3-5\, Fulda
 \, 36041 \, Deutschland;X-APPLE-RADIUS=100;X-TITLE=Bonifatiushaus Haus der
  Weiterbildung der Diözese Fulda:geo:50.55137999999999,9.661339999999996
END:VEVENT
BEGIN:VTIMEZONE
TZID:Europe/Berlin
X-LIC-LOCATION:Europe/Berlin
BEGIN:DAYLIGHT
DTSTART:20200329T030000
TZOFFSETFROM:+0100
TZOFFSETTO:+0200
TZNAME:CEST
END:DAYLIGHT
END:VTIMEZONE
END:VCALENDAR