BEGIN:VCALENDAR
VERSION:2.0
PRODID:-//wp-events-plugin.com//7.2.3.1//EN
TZID:Europe/Berlin
X-WR-TIMEZONE:Europe/Berlin
BEGIN:VEVENT
UID:1713@bcis-bildung.de
DTSTART;TZID=Europe/Berlin:20200910T100000
DTEND;TZID=Europe/Berlin:20200910T170000
DTSTAMP:20200824T112529Z
URL:https://bcis-bildung.de/events/gewalt-in-einrichtungen-rechtliche-moeg
 lichkeiten-bei-aggressivem-verhalten-14/
SUMMARY:Gewalt in Einrichtungen! - Rechtliche Möglichkeiten bei aggressive
 m Verhalten
DESCRIPTION:Gewalt in Einrichtungen!\nRechtliche Möglichkeiten bei aggress
 ivem Verhalten\nMitarbeitende sind immer wieder ungewollt mit Gewaltereign
 issen konfrontiert und körperlicher Gewalt von Klientinnen und Klienten a
 usgesetzt. Diese Gewaltereignisse beschränken sich aber nicht nur auf kö
 rperliche Gewalt. Auch verbale und psychische Gewalt zu ihrem Nachteil sin
 d den Mitarbeitenden nicht fremd. Ebenso kommen Mitarbeitende immer wieder
  in Situationen\, in denen ein Klient oder eine Klientin gegenüber einem 
 anderen Klienten oder einer anderen Klientin gewalttätig wird. Auch mit s
 exuellen Übergriffen haben sich die Mitarbeitenden auseinanderzusetzen.\n
 \nZiel:\n\nDieses Seminar wird den Teilnehmern/-innen die rechtlichen Mög
 lichkeiten und Grenzen aufzeigen\, die den Mitarbeitenden bei übergriffig
 em Verhalten von Klienten und Klientinnen zur Verfügung stehen.\n\nDie Te
 ilnehmer/-innen sollen durch die erworbenen arbeitsrechtlichen Kenntnisse 
 mehr rechtliche Sicherheit im Umgang mit verschiedenen Gewaltsituationen g
 ewinnen und durch die Reflexion konkreter Praxisbeispiele Konsequenzen fü
 r ihre Arbeit\; ihre Strukturen und ihre Arbeitsabläufe in den Einrichtun
 gen ziehen. Hierbei werden die Situationen aus verschiedenen Blickwinkel d
 er Rechtsgebiete Strafrecht\, Arbeitsrecht und Zivilrecht beleuchtet.\n\nI
 nhalte:\n\n 	Anwendung von Zwangsmaßnahmen\n 	die Strafbarkeit einer Hand
 lung und in diesem Zusammenhang dann auch die strafrechtliche Schuldfähig
 keit der Täterin bzw. des Täters\n 	die Prüfung arbeitsrechtlicher Kons
 equenzen\n 	die ordnungsrechtliche Frage der Einschaltung von Aufsichtsbeh
 örden\n 	die zivilrechtliche Haftung für entstandene Schäden\n 	Freihei
 tseinziehende Maßnahmen (FEM)\n\n\nArbeitsformen:\n\nVortrag\, Gruppendis
 kussion\, Übungen\n\nZielgruppe:\n\nMitarbeitende in sozialen Einrichtung
 en\, aus der Kinder- und Jugendhilfe\, aus Werkstätten und Wohnheimen\nTe
 ilnehmer: max. 18 Personen\nDozent: Kerstin Stroth\, Rechtsanwältin und F
 achanwältin für Sozialrecht\nPreis: 149\,00€ zzgl. MwSt.(inkl. Seminar
 unterlagen\, Tagungsgetränke\,\nKaffee und Kuchen)\nVeranstaltungsort:  
   Stadtteilzentrum KroKuS\n\nThie 6\n\n30539 Hannover\nBeginn:       
                    10.00 – 17.00 Uhr\nTermin:        
                   10.09.2020\nAnmeldeschluss:       
    02.09.2020
LOCATION:Stadtteilzentrum  KroKuS\, Thie 6\, 30539 Hannover\, Deutschland
GEO:52.3385271;9.835499199999958
X-APPLE-STRUCTURED-LOCATION;VALUE=URI;X-ADDRESS=Thie 6\, 30539 Hannover\, D
 eutschland;X-APPLE-RADIUS=100;X-TITLE=Stadtteilzentrum  KroKuS:geo:52.3385
 271,9.835499199999958
END:VEVENT
BEGIN:VTIMEZONE
TZID:Europe/Berlin
X-LIC-LOCATION:Europe/Berlin
BEGIN:DAYLIGHT
DTSTART:20200329T030000
TZOFFSETFROM:+0100
TZOFFSETTO:+0200
TZNAME:CEST
END:DAYLIGHT
END:VTIMEZONE
END:VCALENDAR