BEGIN:VCALENDAR
VERSION:2.0
PRODID:-//wp-events-plugin.com//7.2.3.1//EN
TZID:Europe/Berlin
X-WR-TIMEZONE:Europe/Berlin
BEGIN:VEVENT
UID:2026@bcis-bildung.de
DTSTART;TZID=Europe/Berlin:20211202T100000
DTEND;TZID=Europe/Berlin:20211202T170000
DTSTAMP:20211109T104838Z
URL:https://bcis-bildung.de/events/ergebnisqualitaet-und-wirksamkeit-die-n
 eue-herausforderung-zum-bthg-34/
SUMMARY:Ergebnisqualität und Wirksamkeit –  die neue Herausforderung zum
  BTHG
DESCRIPTION:Ergebnisqualität und Wirksamkeit – \ndie neue Herausforderun
 g zum BTHG\nMit der Einführung des Bundesteilhabegesetzes (BTHG) hat die 
 Ergebnisqualität endgültig Einzug in die Eingliederungshilfe gefunden. A
 b 2020 steht die Ergebnisqualität und deren Wirksamkeit bei der Zielverei
 nbarung und der Überprüfung von Zielen im Vordergrund. Neue Dimension si
 nd Themen\, wie Ziel-/Leistungsvereinbarung und Messbarkeit. Die neue Qual
 itäts-Prüfungs-Richtlinie (QPR) fordert Veränderungen.\n\nDie Wirksamke
 it von Leistungen und deren Qualität wird im BTHG §125 „In der schrift
 lichen Vereinbarung zwischen dem Träger der Eingliederungshilfe und dem L
 eistungserbringer‘ geregelt.\n\nDer Grad der Ergebnisqualität wird das 
 Aushängeschild einer Einrichtung und nimmt Einfluss auf die Entscheidungs
 findung\, ob sich ein Kunde und deren Angehörige oder neue Mitarbeitende 
 sich positiv oder negativ für die Einrichtung entscheiden.\n\nZielsetzung
 :\n\nIn diesem Seminar erhalten Sie Informationen zum Thema Ergebnisqualit
 ät und erhalten mögliche Handlungshinweise in der Qualitätssicherung un
 d Organisation.\n\nInhalte:\n\nErgebnisqualität stellt den Patienten bzw.
  Kunden in den Mittelpunkt\n\n 	Konzeptionelle Grundlagen\n 	Drei Ebenen d
 er Qualitätssicherung (Struktur-\, Prozess-\, Ergebnisqualität)\n 	Bedeu
 tung Strukturqualität\, Prozessqualität und Ergebnisqualität\n\nDer Weg
  zu einer guten Ergebnisqualität\n\n 	Rahmen und Anforderungen\n 	Instrum
 ente und Indikatoren der Qualitätssicherung und -Kontrolle\n 	Beispiele m
 öglicher Methoden und Indikatoren zur Überprüfung der Wirksamkeit\n\nEr
 gebnisqualität beruht auf gemeinsam getroffene Vereinbarungen mit dem Kun
 den\n\n 	Überlegungen zum Verständigungsprozess und Aushandlungsprozess\
 n 	Beurteilungsmerkmale\, Leistungsfähigkeit\, Indikatoren und Qualitäts
 prüfungsverfahren\n 	Zieldefinition und Indikatoren sowie Sonderbereiche\
 n\nErgebnisqualität – das Aushängeschild der Einrichtung\n\n 	Chancen 
 und Risiken\n 	„Leistung muss messbar gemacht werden!“\, Forderungen u
 nd Ansätze\n 	Vorbereitung auf das neue Verfahren - Organisation und Mita
 rbeiter\n\n\nNach dem Seminar:\n\n 	Haben Sie ein grundlegendes Verständn
 is zum Thema Ergebnisqualität und Wirksamkeit\n 	Wissen Sie\, wie das The
 ma Ergebnisqualität einzuordnen ist.\n 	Haben Sie Anregungen und Impulse 
 für die Umsetzung\n\nZielgruppe: \n\nMitarbeiterinnen und Mitarbeiter sow
 ie Fach-/Führungskräfte aus allen Verwaltungs-\, Werkstatt-\, Wohn- und 
 Unternehmensbereichen\, der Qualitätssicherung und alle Personen\, welche
  sich für das Thema interessieren\n\nTeilnehmer:            
     max. 16 Personen\n\nDozent:                    
     Dipl. Wirtschaft. Ing. Bernd Wagenknecht\n\nPreis:         
                   179\,00€ zzgl. MwSt. (Inkl. Seminarun
 terlagen\, Stehkaffee mit                         
                                      
                          Gebäck\,Tagungsgetränke
  und am Nachmittag Kaffee und Kuchen)\n\nVeranstaltungsort:  Evangelische
  Gesellschaft Stuttgart e.V.\nBüchsenstr. 34/36\n70174 Stuttgart\n\nBegin
 n:                             10.00 – 17.00 
 Uhr\n\nTermin:                             02.12.
 2021\n\nAnmeldeschluss:             19.11.2021
LOCATION:Evangelische Gesellschaft Stuttgart e.V.\, Büchsenstr. 34/36\, St
 uttgart\, 70174\, Deutschland
GEO:48.7783248;9.172203599999989
X-APPLE-STRUCTURED-LOCATION;VALUE=URI;X-ADDRESS=Büchsenstr. 34/36\, Stuttg
 art\, 70174\, Deutschland;X-APPLE-RADIUS=100;X-TITLE=Evangelische Gesellsc
 haft Stuttgart e.V.:geo:48.7783248,9.172203599999989
END:VEVENT
BEGIN:VTIMEZONE
TZID:Europe/Berlin
X-LIC-LOCATION:Europe/Berlin
BEGIN:STANDARD
DTSTART:20211031T020000
TZOFFSETFROM:+0200
TZOFFSETTO:+0100
TZNAME:CET
END:STANDARD
END:VTIMEZONE
END:VCALENDAR