BEGIN:VCALENDAR
VERSION:2.0
PRODID:-//wp-events-plugin.com//7.2.3.1//EN
TZID:Europe/Berlin
X-WR-TIMEZONE:Europe/Berlin
BEGIN:VEVENT
UID:1088@bcis-bildung.de
DTSTART;TZID=Europe/Berlin:20190131T100000
DTEND;TZID=Europe/Berlin:20190131T170000
DTSTAMP:20190110T130548Z
URL:https://bcis-bildung.de/events/das-bundesteilhabegesetz-und-was-kommt-
 jetzt-5/
SUMMARY:Das Bundesteilhabegesetz! Und was kommt jetzt?
DESCRIPTION:Das Bundesteilhabegesetz! Und was kommt jetzt?\n „Wie wirkt 
 sich zukünftig die Trennung Fachleistungen / existenzsichernde Leistungen
  aus? Wie gestaltet sich die Schnittstelle zur Pflege? Wann ist eine verei
 nbarte Leistung wirksam? Welche Chancen bietet das Wunsch- und Wahlrecht? 
 Und was ändert sich bei der Teilhabe am Arbeitsleben? \n\nDas seit dem 01
 .01.2017in Kraft getretene Bundesteilhabegesetz hat viele Fragen und Unsic
 herheiten bei den Leistungserbringern verursacht. Die wohl einschneidenste
  Änderung in der Eingliederungshilfe steht erst noch bevor. Am 01.01.2020
  wird sich die Trennung der Fachleistungen von den existenz-sichernden Lei
 stungen vollziehen. Aber nicht nur hierauf müssen sich die Leistungserbri
 nger jetzt vorbereiten. Für die Träger von Einrichtungen für Menschen m
 it Behinderung gibt es vielfältige neue Heraus-forderungen in den untersc
 hiedlichsten Bereichen\, z.B. Organisationsänderungen durch das Bundestei
 lhabegesetz\, die Auseinandersetzung mit dem ICF sowie das Prüfrecht des 
 Leistungsträgers und Prüfmanagement und Verbesserung der Dokumentationen
  durch die Leistungserbringer.\n\nInhalt: \n\nDieses Seminar wird sich dam
 it beschäftigen\, was das Gesetz praktisch für Leistungserbringer bedeut
 en kann. Die Auswirkungen des BTHG werden beleuchtet und Reaktionsmöglich
 keiten und entsprechend nun eventuell vorzunehmende Maßnahmen und Vorkehr
 ungen besprochen. Insbesondere die Auswirkungen Trennung der Leistungen in
  existenzsichernde und Fachleistungen\, die Schnittstelle Eingliederungshi
 lfe / Pflege und die nun im Leistungserbringungs- und Vertragsrecht verank
 erten Grundsätze und Maßstäbe für die Wirtschaftlichkeit und Qualität
  einschließlich der Wirksamkeit der Leistungen werden thematisiert. Auch 
 werden die Auswirkungen der nunmehr gesetzlich verankerten Ergebnisqualit
 ät und das damit verbundene Haftungsrisiko der Leistungserbringer erörte
 rt. Darüber hinaus werden Möglichkeiten diskutiert\, die neuen Herausfor
 derungen und Risiken zu meistern bzw. zu minimieren\, beispielsweise durch
  eine entsprechende Dokumentation. Grundlage ist das am 01.01.2017 in Kraf
 t getretene neue Bundesteilhabegesetz. \n\nArbeitsformen:\n\n 	Vortrag\n 	
 Diskussion\n\n\nZielgruppe: \n\n 	Führungs- und Fachkräfte in Einrichtu
 ngen der Behindertenhilfe\n 	Mitarbeiter\, die sich mit dem Thema Bundeste
 ilhabegesetz befassen\n\nTeilnehmer: max. 18 Personen\nDozent: Kerstin Str
 oth\, Halle (Saale)\,\nRechtsanwältin und Fachanwältin für Sozialrecht\
 nPreis: 149\,00€ zzgl. MwSt.(inkl. Seminarunterlagen\, Tagungsgetränke\
 ,\nKaffee und Kuchen)\nVeranstaltungsort:    Stadtteilzentrum KroKuS\n\n
 Thie 6\n\n30539 Hannover\nBeginn:                          10
 .00 – 17.00 Uhr\nTermin:                        
   31.01.2019\nAnmeldeschluss:          18.01.2019
LOCATION:Stadtteilzentrum  KroKuS\, Thie 6\, 30539 Hannover\, Deutschland
GEO:52.3385271;9.835499199999958
X-APPLE-STRUCTURED-LOCATION;VALUE=URI;X-ADDRESS=Thie 6\, 30539 Hannover\, D
 eutschland;X-APPLE-RADIUS=100;X-TITLE=Stadtteilzentrum  KroKuS:geo:52.3385
 271,9.835499199999958
END:VEVENT
BEGIN:VTIMEZONE
TZID:Europe/Berlin
X-LIC-LOCATION:Europe/Berlin
BEGIN:STANDARD
DTSTART:20181028T020000
TZOFFSETFROM:+0200
TZOFFSETTO:+0100
TZNAME:CET
END:STANDARD
END:VTIMEZONE
END:VCALENDAR